BEGIN:VCALENDAR
VERSION:2.0
PRODID:-//wp-events-plugin.com//7.2.2.1//EN
TZID:America/Sao_Paulo
X-WR-TIMEZONE:America/Sao_Paulo
BEGIN:VEVENT
UID:32@melhorrh.com.br
DTSTART;TZID=America/Sao_Paulo:20260623T140000
DTEND;TZID=America/Sao_Paulo:20260623T190000
DTSTAMP:20260416T125854Z
URL:https://melhorrh.com.br/eventos/2o-forum-melhor-rh-innovation-encerram
 ento-presencial/
SUMMARY:2º Fórum Melhor RH Innovation - Encerramento (presencial)
DESCRIPTION:Participe do encerramento do fórum\nO Fórum Melhor RH Innovat
 ion chega ao seu quarto e último momento no dia 23 de junho\, das 14h às
  19h\, com um encontro presencial dedicado ao aprofundamento das práticas
  que estão redefinindo a gestão de pessoas nas organizações.\n\nEste m
 omento final foi concebido para consolidar os aprendizados construídos ao
  longo da jornada e dar visibilidade a iniciativas que demonstram\, na pr
 ática\, como a inovação em RH se materializa dentro das empresas.\nPara
  quem este momento é essencial\nEste encontro é especialmente relevante 
 para profissionais que atuam diretamente na evolução da gestão de pesso
 as\, especialmente:\n\nLideranças de Recursos Humanos\n Executivos e gest
 ores de pessoas\n Profissionais de transformação organizacional\n Especi
 alistas em cultura\, inovação e experiência do colaborador\n\nSe a sua 
 atuação envolve tornar o RH mais estratégico\, conectado ao negócio e 
 orientado a resultados\, este é um momento importante para aprofundar rep
 ertório e ampliar a visão sobre o que já está sendo aplicado no mercad
 o.\nCases que mostram a inovação na prática\nA programação contará c
 om a apresentação de até oito cases vencedores\, conduzidos pelas próp
 rias equipes responsáveis pelos projetos.\n\nSerão iniciativas reais\, i
 mplementadas dentro das organizações\, que evidenciam como a inovação 
 em gestão de pessoas gera impacto concreto em cultura\, eficiência\, eng
 ajamento e resultados de negócio.\n\nMais do que relatos\, esses cases tr
 azem aprendizados aplicáveis\, decisões estratégicas e caminhos percorr
 idos\, permitindo uma compreensão aprofundada sobre como a inovação se 
 constrói no dia a dia das empresas.\nDois painéis para consolidar os apr
 endizados\nAlém dos cases\, o encontro contará com dois painéis compost
 os por executivos e especialistas que irão ampliar a reflexão a partir d
 as experiências apresentadas.\n\nOs debates irão conectar prática e est
 ratégia\, abordando temas como:\n\nA inovação aplicada à gestão de pe
 ssoas como diferencial competitivo\n A integração entre cultura\, tecnol
 ogia e modelos de gestão\n Desafios e caminhos para evolução do RH nas 
 organizações\n O papel da liderança na sustentação da inovação\n\nE
 sses painéis foram estruturados para encerrar o fórum com uma visão int
 egrada\, conectando diferentes perspectivas e consolidando os principais a
 prendizados da jornada.\nO fechamento de uma jornada construída ao longo 
 de junho\nO Fórum Melhor RH Innovation foi estruturado como uma jornada e
 m quatro momentos complementares.\n\nIniciado com a etapa online nos dias 
 1 e 2 de junho\, o fórum estabelece as bases das discussões sobre inova
 ção em gestão de pessoas\, reunindo visões\, práticas e reflexões qu
 e orientam a evolução do RH nas organizações.\n\nNa sequência\, o enc
 ontro presencial do dia 9 de junho aprofunda esse debate\, ampliando a tro
 ca entre lideranças e conectando os temas apresentados a experiências co
 ncretas do dia a dia das empresas.\n\nEsse percurso se completa no dia 23 
 de junho\, com um encontro presencial dedicado à apresentação de até o
 ito cases vencedores\, conduzidos pelas próprias equipes\, além de dois 
 painéis que consolidam e ampliam os principais aprendizados da jornada.\n
 \nEste momento final traduz\, de forma concreta\, o propósito do projeto:
  transformar práticas em referência e fortalecer o papel estratégico do
  RH nas organizações.\nGaranta sua participação neste momento final\nE
 star presente no encerramento do fórum é a oportunidade de acessar\, de 
 forma concentrada\, experiências reais e aprendizados aplicáveis\, const
 ruídos ao longo de toda a jornada.\n\nMais do que acompanhar conteúdos\,
  é a chance de compreender como outras organizações estão estruturando
  suas práticas e quais caminhos estão sendo adotados para impulsionar a 
 inovação em gestão de pessoas.\n\nGaranta sua participação e finalize
  conosco essa jornada que fortalece o RH como um dos principais agentes de
  transformação das organizações.
ATTACH;FMTTYPE=image/jpeg:https://melhorrh.com.br/wp-content/uploads/2026/
 04/capa-2-cor-site-2o-fmrhi-2026-1700x600-1.jpg
CATEGORIES:Fórum Melhor RH Innovation
END:VEVENT
BEGIN:VTIMEZONE
TZID:America/Sao_Paulo
X-LIC-LOCATION:America/Sao_Paulo
BEGIN:STANDARD
DTSTART:20250623T140000
TZOFFSETFROM:-0300
TZOFFSETTO:-0300
TZNAME:-03
END:STANDARD
END:VTIMEZONE
END:VCALENDAR